BEGIN:VCALENDAR
VERSION:2.0
PRODID:KKTIX
CALSCALE:GREGORIAN
METHOD:PUBLISH
BEGIN:VTIMEZONE
TZID:Asia/Taipei
END:VTIMEZONE
BEGIN:VEVENT
DTSTAMP:20260423T170343Z
UID:189559e6-97b4-40b9-b65f-24895ba7df43
DTSTART:20111004T020000Z
DTEND:20111028T083000Z
CLASS:PUBLIC
DESCRIPTION:https://oracle.kktix.cc/events/1028cpg
LOCATION: (台北市信義區忠孝東路五段10號11F) W Hotel Taipei 11F
 策略會議室 I 
SUMMARY:Oracle食品業應用研討會
END:VEVENT
END:VCALENDAR
